BEGIN:VCALENDAR
VERSION:2.0
PRODID:-//El Círcol de Reus - ECPv6.6.4.1//NONSGML v1.0//EN
CALSCALE:GREGORIAN
METHOD:PUBLISH
X-ORIGINAL-URL:https://elcircoldereus.cat
X-WR-CALDESC:Esdeveniments per El Círcol de Reus
REFRESH-INTERVAL;VALUE=DURATION:PT1H
X-Robots-Tag:noindex
X-PUBLISHED-TTL:PT1H
BEGIN:VTIMEZONE
TZID:UTC
BEGIN:STANDARD
TZOFFSETFROM:+0000
TZOFFSETTO:+0000
TZNAME:UTC
DTSTART:20250101T000000
END:STANDARD
END:VTIMEZONE
BEGIN:VEVENT
DTSTART;TZID=UTC:20250408T190000
DTEND;TZID=UTC:20250408T203000
DTSTAMP:20260421T171451
CREATED:20250326T102505Z
LAST-MODIFIED:20250326T102505Z
UID:3132-1744138800-1744144200@elcircoldereus.cat
SUMMARY:Presentació llibre: "L'art de ser humans" de David Bueno
DESCRIPTION:Presentació del llibre:“L’art de ser humans” de David Bueno – Doctor en Biologia\, fundador de la Càtedra de Neuroeducació UB-EDU1st i professor investigador de la Secció de Genètica Biomèdica\, Evolutiva i del Desenvolupament de la Universitat de Barcelona.  \nPresenta: Pilar López\, regidora d’Educació i Ciutadania de l’Ajuntament de Reus. \nConfirmacó assistència a: actes@elcircoldereus.cat \n 
URL:https://elcircoldereus.cat/esdeveniments/presentacio-llibre-cornelius-lalmogaver-de-pilar-rahola-3-3-2-2-2-2-3-2-3/
LOCATION:El Círcol de Reus\, Plaça de Prim\, Reus\, Tarragona\, España
CATEGORIES:Presentacions llibre
ATTACH;FMTTYPE=image/jpeg:https://elcircoldereus.cat/wp-content/uploads/2025/03/David-Bueno-1.jpg
ORGANIZER;CN="El C%C3%ADrcol de Reus":MAILTO:actes@elcircoldereus.cat
END:VEVENT
END:VCALENDAR