BEGIN:VCALENDAR
VERSION:2.0
PRODID:-//El Círcol de Reus - ECPv6.6.4.1//NONSGML v1.0//EN
CALSCALE:GREGORIAN
METHOD:PUBLISH
X-WR-CALNAME:El Círcol de Reus
X-ORIGINAL-URL:https://elcircoldereus.cat
X-WR-CALDESC:Esdeveniments per El Círcol de Reus
REFRESH-INTERVAL;VALUE=DURATION:PT1H
X-Robots-Tag:noindex
X-PUBLISHED-TTL:PT1H
BEGIN:VTIMEZONE
TZID:UTC
BEGIN:STANDARD
TZOFFSETFROM:+0000
TZOFFSETTO:+0000
TZNAME:UTC
DTSTART:20250101T000000
END:STANDARD
END:VTIMEZONE
BEGIN:VEVENT
DTSTART;TZID=UTC:20250512T190000
DTEND;TZID=UTC:20250512T203000
DTSTAMP:20260421T131214
CREATED:20250326T170600Z
LAST-MODIFIED:20250417T162525Z
UID:3157-1747076400-1747081800@elcircoldereus.cat
SUMMARY:Presentació llibre: "El complot del Garraf" de Joan Creixell
DESCRIPTION:Presentació del llibre: “El complot del Garraf” de Joan Creixell – Periodista\, historiador i escriptor \nConfirmacó assistència a: actes@elcircoldereus.cat \n 
URL:https://elcircoldereus.cat/esdeveniments/presentacio-llibre-cornelius-lalmogaver-de-pilar-rahola-3-3-2-2-2-2-3-2-3-2/
LOCATION:El Círcol de Reus\, Plaça de Prim\, Reus\, Tarragona\, España
CATEGORIES:Presentacions llibre
ATTACH;FMTTYPE=image/jpeg:https://elcircoldereus.cat/wp-content/uploads/2025/03/Tomas-Callau-TARGETO.jpg
ORGANIZER;CN="El C%C3%ADrcol de Reus":MAILTO:actes@elcircoldereus.cat
END:VEVENT
BEGIN:VEVENT
DTSTART;TZID=UTC:20250520T190000
DTEND;TZID=UTC:20250520T200000
DTSTAMP:20260421T131214
CREATED:20250326T171740Z
LAST-MODIFIED:20250408T165410Z
UID:3164-1747767600-1747771200@elcircoldereus.cat
SUMMARY:Presentació llibre: "Com les pantalles devoren els nostres fills". Dr. Francisco Villar
DESCRIPTION:El Círcol i la Fundació del Teatre Fortuny us conviden a la presentació del llibre: “Com les pantalles devoren els nostres fills” del Dr. Francisco Villar. Doctor en Psicologia i psicòleg clínic especialista en suïcidi a la infància i l’adolescència. Coordinador del Programa d’Atenció a la Conducta Suïcida del Menor a l’Hospital Sant Joan de Déu de Barcelona. \nImprescindible confirmació d’assistència: actes@elcircoldereus.cat \n\n 
URL:https://elcircoldereus.cat/esdeveniments/conferencia-la-catalunya-sostenible-economia-productiva-i-cohesio-social-m-hble-sr-josep-rull-president-del-parlament-de-catalunya-2-2-2-2-2-2/
LOCATION:El Círcol de Reus\, Plaça de Prim\, Reus\, Tarragona\, España
CATEGORIES:Círcol Obert,Presentacions llibre
ATTACH;FMTTYPE=image/jpeg:https://elcircoldereus.cat/wp-content/uploads/2025/03/Francisco-Villar-Targeto.jpg
ORGANIZER;CN="El C%C3%ADrcol de Reus":MAILTO:actes@elcircoldereus.cat
END:VEVENT
BEGIN:VEVENT
DTSTART;TZID=UTC:20250526T190000
DTEND;TZID=UTC:20250526T200000
DTSTAMP:20260421T131214
CREATED:20250326T172804Z
LAST-MODIFIED:20250417T161512Z
UID:3172-1748286000-1748289600@elcircoldereus.cat
SUMMARY:Presentació llibre: "Diagonal Manhattan". Xavier Bosch
DESCRIPTION:El Círcol us convida a la presentació del llibre: “Diagonal Manhattan” de Xavier Bosch. Periodista i escriptor \nImprescindible confirmació d’assistència: actes@elcircoldereus.cat \n\n 
URL:https://elcircoldereus.cat/esdeveniments/conferencia-la-catalunya-sostenible-economia-productiva-i-cohesio-social-m-hble-sr-josep-rull-president-del-parlament-de-catalunya-2-2-2-2-2-2-2/
LOCATION:El Círcol de Reus\, Plaça de Prim\, Reus\, Tarragona\, España
CATEGORIES:Presentacions llibre
ATTACH;FMTTYPE=image/jpeg:https://elcircoldereus.cat/wp-content/uploads/2025/03/Xavier-Bosch-Targeto.jpg
ORGANIZER;CN="El C%C3%ADrcol de Reus":MAILTO:actes@elcircoldereus.cat
END:VEVENT
END:VCALENDAR