BEGIN:VCALENDAR
VERSION:2.0
PRODID:-//El Círcol de Reus - ECPv6.6.4.1//NONSGML v1.0//EN
CALSCALE:GREGORIAN
METHOD:PUBLISH
X-ORIGINAL-URL:https://elcircoldereus.cat
X-WR-CALDESC:Esdeveniments per El Círcol de Reus
REFRESH-INTERVAL;VALUE=DURATION:PT1H
X-Robots-Tag:noindex
X-PUBLISHED-TTL:PT1H
BEGIN:VTIMEZONE
TZID:UTC
BEGIN:STANDARD
TZOFFSETFROM:+0000
TZOFFSETTO:+0000
TZNAME:UTC
DTSTART:20230101T000000
END:STANDARD
END:VTIMEZONE
BEGIN:VEVENT
DTSTART;TZID=UTC:20230519T200000
DTEND;TZID=UTC:20230630T200000
DTSTAMP:20260419T193831
CREATED:20230831T094639Z
LAST-MODIFIED:20250423T162112Z
UID:922-1684526400-1688155200@elcircoldereus.cat
SUMMARY:Exposició. Cicle Geometria variable" 3/4.  "Espaitemps" -  Núria Rion
DESCRIPTION:Cicle d’exposicions El Círcol de Reus 2023. ”GEOMETRIA VARIABLE“  3/4. “Espaitemps” de Núria Rion.   Del 19 de maig al 30 de juny de 2023. \nTraçar una línia tènue i contínua entre el passat i el present\, entre el camp i la ciutat\, entre l’objecte i el subjecte\, situar-se\, no com etnògraf o arxiver\, sinó amb una postura crítica que integra diferents punts de vista i ens fa qüestionar la realitat i el que donem per fet. Probablement com un un  postetnògraf o un postarxiver\, amb una perspectiva interpretativa en la qual l’artista actua amb una mediació subjectiva a l’hora de seleccionar la informació\, elaborar-la i presentar-la\,  però a la vegada fent-nos participar i treure conclusions. \nPaul Auster ens explicava a Trilogia de Nova York que el protagonista del seu relat estava acostumat a vagarejar: “Les seves excursions per la ciutat li havien ensenyat a entendre les connexions entre l’interior i l’exterior. Fent servir el desplaçament sense rumb com a tècnica d’inversió\, els dies més aconseguits arribava a fer entrar l’exterior a dins i\, d’aquesta manera\, usurpava la sobirania de la interioritat”. La cartografia\, el mapa\, enregistrar l’espai i fer plànols de llocs que estan presents en la memòria de l’artista i que s’han obtingut de forma casual\, com si cada incursió al bosc\, la ciutat o el territori  ens permetés dibuixar un univers diferent però que sempre és el mateix. Una ona que arriba a la platja\, diferent de totes les altres\, única\, i per això mateix\, essència de les ones\, còpia de les altres. Mirar les ones\, entendre el missatge de les ones\, ser ona. \nEl treball de Núria Rion ens interpel·la directament\, ens situa davant un món enyorat però no idíl·lic\, amb contradiccions\, un món que desapareix\, que s’esvaeix\, on els detalls més petits\, els que passen desapercebuts\, ens permeten intuir que ―segurament sense saber-ho― edifiquem el que som sobre estrats que de forma molt subtil ens acompanyen. \n  \nMàrius Domingo\, comissari del cicle
URL:https://elcircoldereus.cat/esdeveniments/espaitemps-nuria-rion/
LOCATION:El Círcol de Reus\, Plaça de Prim\, Reus\, Tarragona\, España
CATEGORIES:Exposicions
ATTACH;FMTTYPE=image/jpeg:https://elcircoldereus.cat/wp-content/uploads/2023/08/EXPO-Nuria-Rion-Targeto-scaled.jpg
ORGANIZER;CN="El C%C3%ADrcol de Reus":MAILTO:actes@elcircoldereus.cat
END:VEVENT
END:VCALENDAR