BEGIN:VCALENDAR
VERSION:2.0
PRODID:-//El Círcol de Reus - ECPv6.6.4.1//NONSGML v1.0//EN
CALSCALE:GREGORIAN
METHOD:PUBLISH
X-WR-CALNAME:El Círcol de Reus
X-ORIGINAL-URL:https://elcircoldereus.cat
X-WR-CALDESC:Esdeveniments per El Círcol de Reus
REFRESH-INTERVAL;VALUE=DURATION:PT1H
X-Robots-Tag:noindex
X-PUBLISHED-TTL:PT1H
BEGIN:VTIMEZONE
TZID:UTC
BEGIN:STANDARD
TZOFFSETFROM:+0000
TZOFFSETTO:+0000
TZNAME:UTC
DTSTART:20220101T000000
END:STANDARD
END:VTIMEZONE
BEGIN:VEVENT
DTSTART;TZID=UTC:20220429T200000
DTEND;TZID=UTC:20220429T210000
DTSTAMP:20260423T001515
CREATED:20230905T174435Z
LAST-MODIFIED:20231214T091550Z
UID:1198-1651262400-1651266000@elcircoldereus.cat
SUMMARY:Exposició: "La vida venç la mort. Ucraïna\, avui" - Diversos artistes
DESCRIPTION:Del 29 d’abril al 20 de maig de 2022
URL:https://elcircoldereus.cat/esdeveniments/la-vida-venc-la-mort-ucraina-avui/
LOCATION:El Círcol de Reus\, Plaça de Prim\, Reus\, Tarragona\, España
CATEGORIES:Exposicions
ATTACH;FMTTYPE=image/jpeg:https://elcircoldereus.cat/wp-content/uploads/2023/09/2022-04-abril-19-EXPO-Ucraina.jpeg
ORGANIZER;CN="El C%C3%ADrcol de Reus":MAILTO:actes@elcircoldereus.cat
END:VEVENT
END:VCALENDAR