BEGIN:VCALENDAR
VERSION:2.0
PRODID:-//El Círcol de Reus - ECPv6.6.4.1//NONSGML v1.0//EN
CALSCALE:GREGORIAN
METHOD:PUBLISH
X-WR-CALNAME:El Círcol de Reus
X-ORIGINAL-URL:https://elcircoldereus.cat
X-WR-CALDESC:Esdeveniments per El Círcol de Reus
REFRESH-INTERVAL;VALUE=DURATION:PT1H
X-Robots-Tag:noindex
X-PUBLISHED-TTL:PT1H
BEGIN:VTIMEZONE
TZID:UTC
BEGIN:STANDARD
TZOFFSETFROM:+0000
TZOFFSETTO:+0000
TZNAME:UTC
DTSTART:20230101T000000
END:STANDARD
END:VTIMEZONE
BEGIN:VEVENT
DTSTART;TZID=UTC:20230224T200000
DTEND;TZID=UTC:20230323T200000
DTSTAMP:20260419T232236
CREATED:20230905T180404Z
LAST-MODIFIED:20250423T160231Z
UID:1206-1677268800-1679601600@elcircoldereus.cat
SUMMARY:Exposició Cicle Geometria variable. 1/4.  "Ombres d'ahir" - Teresa Felip.
DESCRIPTION:Cicle “GEOMETRIA VARIABLE”. Exposicions al Círcol de Reus 2023. “Ombres d’ahir” de Teresa Felip \ndivendres 24 de febrer de 2023 – 24 de març de 2023 \nOmbres d’ahir  \n  Les idees més complicades i abstractes necessiten ser expressades per escrit per aconseguir que els altres ―i nosaltres mateixos— hi puguem accedir\, aquesta idea\, que forma part del decàleg que Nietzsche va dedicar a l’art d’escriure\, va acompanyada moltes vegades de la misteriosa necessitat d’escriure amb la imperiosa voluntat de fer-ho sense tenir molt clar el motiu\, o directament sense una causa ni una finalitat predeterminades\, però al fer-ho\, l’escriptor edifica un univers propi. O com deia Kafka\, en les Cartes a Milena\, “la facilitat d’escriure cartes deu haver portat al món una terrible pertorbació de les ànimes\, perquè és una relació amb fantasmes; i no únicament amb el fantasma del destinatari\, sinó també amb el propi”. Teresa Felip dibuixa per concretar idees abstractes que vol expressar i d’aquesta manera guiar els sentits de l’espectador cap a aquestes idees que\, un cop dibuixades\, existeixen\, troben un lloc al món\, dialoguen amb nosaltres i amb els llocs on es troben creant espais transicionals on pensar-se en solitud o amb els altres\, possibilitant transformacions subjectives que ens fan reflexionar. Un gest que s’emporta el vent\, un sospir\, una sensació\, moviments efímers que l’artista fixa de forma gestual\, expandint el temps al gravar sobre la tela alguna cosa que arriba des de la seva subjectivitat fins la nostra. \nAmb aquesta mostra redescobrim l’obra de Teresa Felip amb un treball exposat per primera vegada a la sala Fortuny del Centre de lectura l’any 2016\, que de forma rizomàtica ha nat creixent i ramificant-se en altres projectes amb peces de gran format\, dibuixos amb tinta o pintura negra\, sobre fons blanc\, imatges que reconeixem\, que ens captiven: l’ampliació no ens fa discernir els detalls\, com passaria en la fotografia\, en el cas de Teresa les figures ens observen\, i son elles les que\, de forma autònoma\, ens esperem. \nMàrius Domingo\, comissari del cicle
URL:https://elcircoldereus.cat/esdeveniments/ombres-dahir/
LOCATION:El Círcol de Reus\, Plaça de Prim\, Reus\, Tarragona\, España
CATEGORIES:Exposicions
ATTACH;FMTTYPE=image/jpeg:https://elcircoldereus.cat/wp-content/uploads/2023/09/EXPO-Teresa-Felip-Targeto-scaled.jpg
ORGANIZER;CN="El C%C3%ADrcol de Reus":MAILTO:actes@elcircoldereus.cat
END:VEVENT
BEGIN:VEVENT
DTSTART;TZID=UTC:20230331T200000
DTEND;TZID=UTC:20230430T200000
DTSTAMP:20260419T232236
CREATED:20230905T175725Z
LAST-MODIFIED:20250423T161354Z
UID:1202-1680292800-1682884800@elcircoldereus.cat
SUMMARY:Exposició Cicle Geometria variable. 2/4. "Druwu i Alcàsser. Sensory experience music and painting". Antoni Alcàsser
DESCRIPTION:«GEOMETRIA VARIABLE»  2/4 . Cicle d’exposicions al Círcol de Reus 2023. Antonio Alcàsser. divendres 31 de març de 2023 – 12 de maig de 2023 \nDruwu i Alcàsser Sensory Experience Music and Painting \nEls píxels de la imatge digital únicament són visibles a partir de certa ampliació\, l’individu només és perceptible en un camp reduït: en el pas següent només es veuran píxels o només individus\, difuminats els vincles de llum i ombra que els uneixen o allunyen en una visió de conjunt. El punt de vista que ens permet veure els píxels\, l’individu i el seu entorn\, en una amalgama de símbols i significats\, implica fixar la mirada en un lloc indeterminat\, entre les línies del que tenim davant per veure més enllà del que és aparent\, més enllà del que els nostres sentits ens volen ensenyar. Com una cançó que sona una vegada i una altra i per cadascú de nosaltres té un significat diferent. Qüestionant sempre el que veiem\, el que escoltem\, fins i tot el que olorem o el que toquen les nostres mans\, com si Decartes tornés del més enllà i ens agafes pels peus mentre dormim i sacsegés la nostra confiança. Just en aquest moment\, la imatge real\, la que podem observar in situ\, sense mediació\, sense pantalles o dispositius que la distorsionen\, dialoga amb nosaltres. \nEns aproximem a l’obra d’Antonio Alcàsser com si miréssim una pel·lícula feta amb els trossos de metratge rebutjats\, recollits en la taula del muntador\, i units amb una lògica que intuïm només de forma fragmentària. D’aquesta barreja emergeix una realitat polièdrica que emet una llum discontinua\, com un far en la nit que ens indica un espai rocós i turbulent del que convindria allunyar-se. Però sabem que és justament allí\, on les ones trenquen contra l’espigó\, on volem anar. \nEns acompanya la música de Druwu\, amb una llarga melodia\, amb salts i contraposicions sonores amb breus pauses\, com un modern Staccato. Una unió de fragments que encaixen els uns amb els altres\, es complementen\, creixen i es ramifiquen. \nMàrius Domingo\, comissari del cicle
URL:https://elcircoldereus.cat/esdeveniments/druwu-i-alcasser-sensory-experience-music-and-painting/
LOCATION:El Círcol de Reus\, Plaça de Prim\, Reus\, Tarragona\, España
CATEGORIES:Exposicions
ATTACH;FMTTYPE=image/jpeg:https://elcircoldereus.cat/wp-content/uploads/2023/09/EXPO-Antoni-Alcasser-i-DRUWU-scaled.jpg
ORGANIZER;CN="El C%C3%ADrcol de Reus":MAILTO:actes@elcircoldereus.cat
END:VEVENT
END:VCALENDAR