BEGIN:VCALENDAR
VERSION:2.0
PRODID:-//El Círcol de Reus - ECPv6.6.4.1//NONSGML v1.0//EN
CALSCALE:GREGORIAN
METHOD:PUBLISH
X-WR-CALNAME:El Círcol de Reus
X-ORIGINAL-URL:https://elcircoldereus.cat
X-WR-CALDESC:Esdeveniments per El Círcol de Reus
REFRESH-INTERVAL;VALUE=DURATION:PT1H
X-Robots-Tag:noindex
X-PUBLISHED-TTL:PT1H
BEGIN:VTIMEZONE
TZID:UTC
BEGIN:STANDARD
TZOFFSETFROM:+0000
TZOFFSETTO:+0000
TZNAME:UTC
DTSTART:20220101T000000
END:STANDARD
END:VTIMEZONE
BEGIN:VEVENT
DTSTART;TZID=UTC:20221019T080000
DTEND;TZID=UTC:20221104T170000
DTSTAMP:20260420T065304
CREATED:20230907T171946Z
LAST-MODIFIED:20231214T090714Z
UID:1338-1666166400-1667581200@elcircoldereus.cat
SUMMARY:Exposició: "Un recull de la vida del Dr. Tosquelles"
DESCRIPTION:Exposició a càrrec de l’Associació Salut Mental Doctor Tosquelles.
URL:https://elcircoldereus.cat/esdeveniments/un-recull-de-la-vida-del-dr-tosquelles/
LOCATION:El Círcol de Reus\, Plaça de Prim\, Reus\, Tarragona\, España
CATEGORIES:Exposicions
ATTACH;FMTTYPE=image/jpeg:https://elcircoldereus.cat/wp-content/uploads/2023/09/Targeto-Expo-Tosquelles.jpg
ORGANIZER;CN="El C%C3%ADrcol de Reus":MAILTO:actes@elcircoldereus.cat
END:VEVENT
END:VCALENDAR