BEGIN:VCALENDAR
VERSION:2.0
PRODID:-//El Círcol de Reus - ECPv6.6.4.1//NONSGML v1.0//EN
CALSCALE:GREGORIAN
METHOD:PUBLISH
X-ORIGINAL-URL:https://elcircoldereus.cat
X-WR-CALDESC:Esdeveniments per El Círcol de Reus
REFRESH-INTERVAL;VALUE=DURATION:PT1H
X-Robots-Tag:noindex
X-PUBLISHED-TTL:PT1H
BEGIN:VTIMEZONE
TZID:UTC
BEGIN:STANDARD
TZOFFSETFROM:+0000
TZOFFSETTO:+0000
TZNAME:UTC
DTSTART:20260101T000000
END:STANDARD
END:VTIMEZONE
BEGIN:VEVENT
DTSTART;TZID=UTC:20260507T093000
DTEND;TZID=UTC:20260507T120000
DTSTAMP:20260420T181338
CREATED:20260408T084319Z
LAST-MODIFIED:20260408T084319Z
UID:3980-1778146200-1778155200@elcircoldereus.cat
SUMMARY:2a. Trobada del Cercle de Trobades Empresarials: Reptes i oportunitats en captació de fons per a les associacions i fundacions del Camp de Tarragona i Terres de l’Ebre
DESCRIPTION:Reptes i oportunitats en captació de fons per a les associacions i fundacions del Camp de Tarragona i Terres de l’Ebre\n\nJordi Cervera\, esportista i secretari Swim for ELA\n\n\nMisericòrdia Boqué Tosas\, responsable de la Comissió Social de la Fundació Privada Reddis\n\n\nM. Dolors Olivé Vernet\, coordinadora del projecte “Impuls social” de la Fundació Privada Reddis\n\n\nSilvina Vázquez\, directora Observatori de Fundacions\, Coordinadora Catalana de Fundacions\n\nModerador: Juan Mezo\, membre de l’Associació Professionals del Fundraising \n📅 7 de maig\n🕒 10:00h – 12:00h\n📍 El Círcol (Reus) \nMés informació i inscripcions:\n👉  https://fundraisingcat.helpbysc.com/repteoportunitatstarragona  \n\n 
URL:https://elcircoldereus.cat/esdeveniments/https-elcircoldereus-cat-wp-content-uploads-2026-04-jornada-esport-i-empresa-jpg-2/
LOCATION:El Círcol de Reus\, Plaça de Prim\, Reus\, Tarragona\, España
CATEGORIES:Círcol Jove,Círcol Obert
ORGANIZER;CN="Fundaci%C3%B3 El C%C3%ADrcol":MAILTO:fundacio@fundacioelcircol.cat
END:VEVENT
END:VCALENDAR