BEGIN:VCALENDAR
VERSION:2.0
PRODID:-//El Círcol de Reus - ECPv6.6.4.1//NONSGML v1.0//EN
CALSCALE:GREGORIAN
METHOD:PUBLISH
X-WR-CALNAME:El Círcol de Reus
X-ORIGINAL-URL:https://elcircoldereus.cat
X-WR-CALDESC:Esdeveniments per El Círcol de Reus
REFRESH-INTERVAL;VALUE=DURATION:PT1H
X-Robots-Tag:noindex
X-PUBLISHED-TTL:PT1H
BEGIN:VTIMEZONE
TZID:UTC
BEGIN:STANDARD
TZOFFSETFROM:+0000
TZOFFSETTO:+0000
TZNAME:UTC
DTSTART:20260101T000000
END:STANDARD
END:VTIMEZONE
BEGIN:VEVENT
DTSTART;TZID=UTC:20260413T133000
DTEND;TZID=UTC:20260413T163000
DTSTAMP:20260420T163444
CREATED:20260408T083445Z
LAST-MODIFIED:20260408T084505Z
UID:3971-1776087000-1776097800@elcircoldereus.cat
SUMMARY:1a. Trobada del Cercle de Trobades Empresarials: "Esport i empresa: gestió i impacte econòmic" amb l’H. Sr. Berni Álvarez
DESCRIPTION:1a Trobada del Cercle de Trobades Empresarials\, un espai pensat per connectar professionals i generar oportunitats reals al territori!! \nIniciem el cicle amb l’H. Sr. Berni Álvarez\, amb la ponència:\n“Esport i empresa: gestió i impacte econòmic”\, on es tractaran temes de lideratge\, gestió d’equips i la connexió entre el món esportiu i empresarial. \n📅 13 d’abril\n🕒 13:30h – 16:00h\n📍 Restaurant El Círcol (Reus) \nMés informació i inscripcions:\n👉 https://luma.com/aqx6lkx3 \n 
URL:https://elcircoldereus.cat/esdeveniments/https-elcircoldereus-cat-wp-content-uploads-2026-04-jornada-esport-i-empresa-jpg/
LOCATION:El Círcol de Reus\, Plaça de Prim\, Reus\, Tarragona\, España
CATEGORIES:Círcol Jove,Círcol Obert
ATTACH;FMTTYPE=image/jpeg:https://elcircoldereus.cat/wp-content/uploads/2026/04/Jornada-Esport-i-empresa.jpg
ORGANIZER;CN="Fundaci%C3%B3 El C%C3%ADrcol":MAILTO:fundacio@fundacioelcircol.cat
END:VEVENT
BEGIN:VEVENT
DTSTART;TZID=UTC:20260413T170000
DTEND;TZID=UTC:20260413T190000
DTSTAMP:20260420T163444
CREATED:20260408T093825Z
LAST-MODIFIED:20260408T094028Z
UID:3993-1776099600-1776106800@elcircoldereus.cat
SUMMARY:Tallers 2026: "Taller d'automaquillatge primavera-estiu 2026"
DESCRIPTION:Vine a descobrir les noves tendències i tècniques de make-up! \nEt presentarem les últimes novetats del món del maquillatge. Et descobrirem les noves tècniques\, i els productes més innovadors.  Et provarem les tendències que ja marquen estil aquesta temporada. \nTenim un munt de novetats… que et faran lluir! 💄 \nT’hi esperem!! 💋 \nConfirmació a: places esgotades!!!
URL:https://elcircoldereus.cat/esdeveniments/tallers-2026-taller-dautomaquillatge-primavera-estiu-2026/
LOCATION:El Círcol de Reus\, Plaça de Prim\, Reus\, Tarragona\, España
CATEGORIES:Círcol Jove,Círcol Obert,Tallers
ATTACH;FMTTYPE=image/jpeg:https://elcircoldereus.cat/wp-content/uploads/2026/04/Taller-bellesa.jpg
ORGANIZER;CN="El C%C3%ADrcol de Reus":MAILTO:actes@elcircoldereus.cat
END:VEVENT
END:VCALENDAR