BEGIN:VCALENDAR
VERSION:2.0
PRODID:-//El Círcol de Reus - ECPv6.6.4.1//NONSGML v1.0//EN
CALSCALE:GREGORIAN
METHOD:PUBLISH
X-WR-CALNAME:El Círcol de Reus
X-ORIGINAL-URL:https://elcircoldereus.cat
X-WR-CALDESC:Esdeveniments per El Círcol de Reus
REFRESH-INTERVAL;VALUE=DURATION:PT1H
X-Robots-Tag:noindex
X-PUBLISHED-TTL:PT1H
BEGIN:VTIMEZONE
TZID:UTC
BEGIN:STANDARD
TZOFFSETFROM:+0000
TZOFFSETTO:+0000
TZNAME:UTC
DTSTART:20250101T000000
END:STANDARD
END:VTIMEZONE
BEGIN:VEVENT
DTSTART;TZID=UTC:20251113T190000
DTEND;TZID=UTC:20251113T203000
DTSTAMP:20260423T083847
CREATED:20251106T183715Z
LAST-MODIFIED:20251106T184407Z
UID:3739-1763060400-1763065800@elcircoldereus.cat
SUMMARY:Cicle Wine&Business: Patrícia Terradellas Maré
DESCRIPTION:https://elcircoldereus.cat/wp-content/uploads/2025/06/VIDEO-WINE-AND-BUSINESS.mp4\nCicle Wine&Business\, amb Patrícia Terradellas Maré\, Presidenta d’El Círcol \n19h: Entrevista a Patrícia Terradellas Maré\, Presidenta d’El Círcol \n20h: Networking amb copa de vi \nConfirmacions: actes@elcircoldereus.cat
URL:https://elcircoldereus.cat/esdeveniments/https-elcircoldereus-cat-wp-content-uploads-2025-11-wine-and-businesspatricia-terradellas-mare-jpg/
LOCATION:El Círcol de Reus\, Plaça de Prim\, Reus\, Tarragona\, España
CATEGORIES:Círcol Jove,Círcol Obert
ATTACH;FMTTYPE=image/jpeg:https://elcircoldereus.cat/wp-content/uploads/2025/11/wine-and-businessPatricia-Terradellas-Mare.jpg
ORGANIZER;CN="El C%C3%ADrcol de Reus":MAILTO:actes@elcircoldereus.cat
END:VEVENT
END:VCALENDAR