BEGIN:VCALENDAR
VERSION:2.0
PRODID:-//El Círcol de Reus - ECPv6.6.4.1//NONSGML v1.0//EN
CALSCALE:GREGORIAN
METHOD:PUBLISH
X-WR-CALNAME:El Círcol de Reus
X-ORIGINAL-URL:https://elcircoldereus.cat
X-WR-CALDESC:Esdeveniments per El Círcol de Reus
REFRESH-INTERVAL;VALUE=DURATION:PT1H
X-Robots-Tag:noindex
X-PUBLISHED-TTL:PT1H
BEGIN:VTIMEZONE
TZID:UTC
BEGIN:STANDARD
TZOFFSETFROM:+0000
TZOFFSETTO:+0000
TZNAME:UTC
DTSTART:20250101T000000
END:STANDARD
END:VTIMEZONE
BEGIN:VEVENT
DTSTART;TZID=UTC:20251022T193000
DTEND;TZID=UTC:20251022T203000
DTSTAMP:20260423T083026
CREATED:20250915T161829Z
LAST-MODIFIED:20251020T162254Z
UID:2666-1761161400-1761165000@elcircoldereus.cat
SUMMARY:Conferència "Luxe entre bambalines: descobreix les regles del joc del luxe i genera impacte de negoci"
DESCRIPTION:El Círcol\, la Cambra de Comerç i la Jove Cambra us conviden a la conferància “Luxe entre bambalines: descobreix les regles del joc del luxe i genera impacte de negoci” a càrrec de Mar Roig Valveny\, experta en estratègia de marca i negoci\, directora acadèmica a ESADE i ponent internacional en gestió de marques. \nConfirmació d’assistència a: actes@elcircoldereus.cat  \n 
URL:https://elcircoldereus.cat/esdeveniments/conferencia-luxe-entre-bambalines-descobreix-les-regles-del-joc-del-luxe-i-genera-impacte-de-negoci/
LOCATION:El Círcol de Reus\, Plaça de Prim\, Reus\, Tarragona\, España
CATEGORIES:Círcol Jove,Círcol Obert
ATTACH;FMTTYPE=image/jpeg:https://elcircoldereus.cat/wp-content/uploads/2025/09/Mar-Roig-ascensor.jpg
END:VEVENT
END:VCALENDAR