BEGIN:VCALENDAR
VERSION:2.0
PRODID:-//El Círcol de Reus - ECPv6.6.4.1//NONSGML v1.0//EN
CALSCALE:GREGORIAN
METHOD:PUBLISH
X-ORIGINAL-URL:https://elcircoldereus.cat
X-WR-CALDESC:Esdeveniments per El Círcol de Reus
REFRESH-INTERVAL;VALUE=DURATION:PT1H
X-Robots-Tag:noindex
X-PUBLISHED-TTL:PT1H
BEGIN:VTIMEZONE
TZID:UTC
BEGIN:STANDARD
TZOFFSETFROM:+0000
TZOFFSETTO:+0000
TZNAME:UTC
DTSTART:20250101T000000
END:STANDARD
END:VTIMEZONE
BEGIN:VEVENT
DTSTART;TZID=UTC:20250104T193000
DTEND;TZID=UTC:20250104T233000
DTSTAMP:20260421T082931
CREATED:20250121T123431Z
LAST-MODIFIED:20250121T124340Z
UID:3056-1736019000-1736033400@elcircoldereus.cat
SUMMARY:Taller de Kizomba a El Círcol
DESCRIPTION:La Kizomba és un gènere musical i un ball que va començar a compondre’s entre finals dels anys 70 principis dels anys 80 a Angola. Kizomba vol dir “festa” en kimbundu\, una llengua d’Angola. La nova generació de kizomba és influïda pel semba (tipus tradicional de música d’Angola) i el kompa de les Antilles Franceses. \nTaller de kizomba amb el professor i reconegut ballarí professional\, Tomas Keita. El taller anirà seguit d’una nit de ball 100% Kizomba.\nUs esperem per disfrutar d’una nit de kizomba!! \nConfirmacions: actes@elcircoldereus.cat \n 
URL:https://elcircoldereus.cat/esdeveniments/milonga-a-el-circol-8-2-2-2-2/
LOCATION:El Círcol de Reus\, Plaça de Prim\, Reus\, Tarragona\, España
CATEGORIES:Ball
ORGANIZER;CN="El C%C3%ADrcol de Reus":MAILTO:actes@elcircoldereus.cat
END:VEVENT
END:VCALENDAR